BEGIN:VCALENDAR
VERSION:2.0
PRODID:-//wp-events-plugin.com//7.2.3//EN
TZID:Europe/Berlin
X-WR-TIMEZONE:Europe/Berlin
BEGIN:VEVENT
UID:5059@frauenzentrum-potsdam.de
DTSTART;TZID=Europe/Berlin:20260526T180000
DTEND;TZID=Europe/Berlin:20260526T200000
DTSTAMP:20260423T092829Z
URL:https://frauenzentrum-potsdam.de/veranstaltungen/frauen-ins-zentrum-or
 te-der-sichtbarkeit-und-solidaritaet/
SUMMARY:Frauen ins Zentrum – Orte der Sichtbarkeit und Solidarität
DESCRIPTION:EINLADUNG\n\nDreiteilige Veranstaltungsreihe zu den neuen Stra
 ßennamen in Potsdams Mitte\n\n&nbsp\;\n\nFrauen prägen Demokratie\, Kult
 ur und politischen Wandel – doch im öffentlichen Raum bleibt ihr Wirken
  oft unsichtbar. Ob bei der Verteilung politischer Ämter oder in der hist
 orischen Erinnerung: Frauen sind bis heute unterrepräsentiert. Gleichzeit
 ig waren es vor allem Frauen\, die mutig für Gleichberechtigung\, Freihei
 t und Solidarität eingetreten sind – häufig im Hintergrund\, selten ge
 feiert.\n\nEin Schritt zu mehr Sichtbarkeit wurde 2019 in Potsdam getan: D
 ie Stadtverordnetenversammlung beschloss\, drei Straßen in der „Neuen M
 itte“ nach bedeutenden Potsdamerinnen zu benennen. Dieser Impuls ging vo
 n der Projektgruppe Frauenwahllokal aus\, die zum 100. Jubiläum des Fraue
 nwahlrechts in Deutschland die ersten Kommunalpolitikerinnen in Potsdam er
 forscht hat. Die neuen Straßen tragen seit 2024 die Namen von Erika Wolf\
 , Anna Zielenziger und Anna Flügge.\n\nIm März 2025 folgte ein weiterer 
 Meilenstein: Mit dem Einzug des Autonomen Frauenzentrums Potsdam\, des Fra
 uenpolitischen Rates Land Brandenburg und des Netzwerks der brandenburgisc
 hen Frauenhäuser an den Alten Markt 6 entstand erstmals ein gemeinsamer\,
  zentraler Ort für frauen- und gleichstellungspolitische Arbeit. Was heut
 e selbstverständlich wirkt\, ist das Ergebnis langer\, hartnäckiger Ause
 inandersetzungen – und ein Ausdruck gelebter feministischer Solidarität
 . Seit diesem Jahr trägt der Ort den Namen *innenRaum – Feminismus im Z
 entrum.\n\nHierher lädt Potsdams Oberbürgermeisterin Noosha Aubel gemein
 sam mit dem Autonomen Frauenzentrum herzlich zum zweiten Teil der Veransta
 ltungsreihe rund um die neuen Straßennamen ein.\n\nIm Mittelpunkt steht d
 iesmal die frühere Vorsitzende des Israelitischen Frauenvereins Potsdam\,
  Anna Zielenziger (1867-1943). Die Heirat mit dem jüdischen Getreidehänd
 ler Julius Zielenziger führte sie nach Potsdam. Der nationalsozialistisch
 e Terror vertrieb sie nach Holland\, wo sie im „Judendurchgangslager“ 
 Westerbork starb.\n\n&nbsp\;\n\nWir würden uns freuen\, wenn Sie unserer 
 Einladung folgen!\n\n&nbsp\;\n\nProgramm 26. Mai 2026 – 18 bis 20 Uhr\n\
 nVeranstaltungssaal Alter Markt 6\n\n&nbsp\;\n\n18 Uhr\n\nBegrüßung durc
 h Katrin Aechtner\, Geschäftsführerin des Autonomen Frauenzentrums Potsd
 am\n\nGrußwort der Potsdamer Oberbürgermeisterin Noosha Aubel\n\nGrußwo
 rt von Michael Zielenziger\, Urenkel von Anna Zielenziger aus den USA\n\nG
 rußwort von Gideon Weil\, Urenkel von Anna Zielenziger aus Israel\n\n&nbs
 p\;\n\n18: 20 Uhr\n\nKurzvortrag von Dr. Irene Diekmann (ehemalige stellve
 rtretende Direktorin des Moses Mendelssohn Zentrums Potsdam) zum jüdische
 n Leben in Potsdam zu Anna Zielenzigers Zeit\n\n&nbsp\;\n\n18:30 Uhr\n\nKu
 rzvortrag Jeanette Toussaint (Ethnologin) über Anna Zielenziger\n\n&nbsp\
 ;\n\n18:50 Uhr\n\nEnthüllung einer Tafel an der Anna-Zielenziger-Straße 
 1-3 als Teil des „Historischen Parcours“\, der auf mehr als 40 Tafeln 
 über besondere Gebäude und Persönlichkeiten der Landeshauptstadt Potsda
 m informiert\n\nGrußwort: Roman Poosch\, Mitglied des Vorstands der Potsd
 amer Wohnungsgenossenschaft 1956 eG\n\n&nbsp\;\n\nAnschließend\n\nAustaus
 ch und Begegnung im Autonomen Frauenzentrum bei Snacks und Getränken\n\n&
 nbsp\;\n\nModeration: Jeanette Toussaint\n\n&nbsp\;
ATTACH;FMTTYPE=image/jpeg:https://frauenzentrum-potsdam.de/wp/wp-content/u
 ploads/2026/04/HP_Tafelenthuellung-Anna-Zielenziger-Str.png
CATEGORIES:Gespräch,Vortrag
LOCATION:Autonomes Frauenzentrum Potsdam e.V.\, Alter Markt 6\, Potsdam\, 1
 4467\, Deutschland
X-APPLE-STRUCTURED-LOCATION;VALUE=URI;X-ADDRESS=Alter Markt 6\, Potsdam\, 1
 4467\, Deutschland;X-APPLE-RADIUS=100;X-TITLE=Autonomes Frauenzentrum Pots
 dam e.V.:geo:0,0
END:VEVENT
BEGIN:VTIMEZONE
TZID:Europe/Berlin
X-LIC-LOCATION:Europe/Berlin
BEGIN:DAYLIGHT
DTSTART:20260329T030000
TZOFFSETFROM:+0100
TZOFFSETTO:+0200
TZNAME:CEST
END:DAYLIGHT
END:VTIMEZONE
END:VCALENDAR