BEGIN:VCALENDAR
VERSION:2.0
PRODID:-//wp-events-plugin.com//7.2.3//EN
TZID:Europe/Berlin
X-WR-TIMEZONE:Europe/Berlin
BEGIN:VEVENT
UID:3543@frauenzentrum-potsdam.de
DTSTART;TZID=Europe/Berlin:20231106T150000
DTEND;TZID=Europe/Berlin:20231106T170000
DTSTAMP:20231025T093938Z
URL:https://frauenzentrum-potsdam.de/veranstaltungen/gespraechsnachmittag-
 ich-meine-familie-mein-recht/
SUMMARY:Gesprächsnachmittag "Ich + meine Familie + mein Recht"
DESCRIPTION:
ATTACH;FMTTYPE=image/jpeg:https://frauenzentrum-potsdam.de/wp/wp-content/u
 ploads/2023/10/VA-EJF.png
CATEGORIES:Begegnung und Austausch
LOCATION:EJF Familienzentrum Bisamkiez\, Bisamkiez 26\, Potsdam\, 14478\, D
 eutschland
X-APPLE-STRUCTURED-LOCATION;VALUE=URI;X-ADDRESS=Bisamkiez 26\, Potsdam\, 14
 478\, Deutschland;X-APPLE-RADIUS=100;X-TITLE=EJF Familienzentrum Bisamkiez
 :geo:0,0
END:VEVENT
BEGIN:VTIMEZONE
TZID:Europe/Berlin
X-LIC-LOCATION:Europe/Berlin
BEGIN:STANDARD
DTSTART:20231029T020000
TZOFFSETFROM:+0200
TZOFFSETTO:+0100
TZNAME:CET
END:STANDARD
END:VTIMEZONE
END:VCALENDAR