BEGIN:VCALENDAR
VERSION:2.0
PRODID:-//wp-events-plugin.com//7.2.3//EN
TZID:Europe/Berlin
X-WR-TIMEZONE:Europe/Berlin
BEGIN:VEVENT
UID:1080@frauenzentrum-potsdam.de
DTSTART;TZID=Europe/Berlin:20201111T150000
DTEND;TZID=Europe/Berlin:20201111T170000
DTSTAMP:20200825T113146Z
URL:https://frauenzentrum-potsdam.de/veranstaltungen/lesecafe-2-2020-11-11
 /
SUMMARY:Lesecafé
DESCRIPTION:Neben der Nutzung der hauseigenen Bibliothek wird hier Literari
 sches geteilt und gelesen. Es ist Raum und Zeit sich über Bibliophiles au
 szutauschen und Inspirationen für Eigenes zu sammeln.\nDas Lesecafé find
 et regulär jeden Mittwoch statt\, außer dem ersten Mittwoch im Monat\, w
 enn zum Frauenfrühstück geladen wird.
CATEGORIES:Begegnung und Austausch,Gespräch
LOCATION:Autonomes Frauenzentrum Potsdam e.V.\, Alter Markt 6\, Potsdam\, 1
 4467\, Deutschland
X-APPLE-STRUCTURED-LOCATION;VALUE=URI;X-ADDRESS=Alter Markt 6\, Potsdam\, 1
 4467\, Deutschland;X-APPLE-RADIUS=100;X-TITLE=Autonomes Frauenzentrum Pots
 dam e.V.:geo:0,0
END:VEVENT
BEGIN:VTIMEZONE
TZID:Europe/Berlin
X-LIC-LOCATION:Europe/Berlin
BEGIN:STANDARD
DTSTART:20201025T020000
TZOFFSETFROM:+0200
TZOFFSETTO:+0100
TZNAME:CET
END:STANDARD
END:VTIMEZONE
END:VCALENDAR